BEGIN:VCALENDAR
VERSION:2.0
PRODID:-//Fantastigal - ECPv6.15.20//NONSGML v1.0//EN
CALSCALE:GREGORIAN
METHOD:PUBLISH
X-ORIGINAL-URL:https://fantastigal.com
X-WR-CALDESC:Events for Fantastigal
REFRESH-INTERVAL;VALUE=DURATION:PT1H
X-Robots-Tag:noindex
X-PUBLISHED-TTL:PT1H
BEGIN:VTIMEZONE
TZID:America/Detroit
BEGIN:DAYLIGHT
TZOFFSETFROM:-0500
TZOFFSETTO:-0400
TZNAME:EDT
DTSTART:20250309T070000
END:DAYLIGHT
BEGIN:STANDARD
TZOFFSETFROM:-0400
TZOFFSETTO:-0500
TZNAME:EST
DTSTART:20251102T060000
END:STANDARD
BEGIN:DAYLIGHT
TZOFFSETFROM:-0500
TZOFFSETTO:-0400
TZNAME:EDT
DTSTART:20260308T070000
END:DAYLIGHT
BEGIN:STANDARD
TZOFFSETFROM:-0400
TZOFFSETTO:-0500
TZNAME:EST
DTSTART:20261101T060000
END:STANDARD
BEGIN:DAYLIGHT
TZOFFSETFROM:-0500
TZOFFSETTO:-0400
TZNAME:EDT
DTSTART:20270314T070000
END:DAYLIGHT
BEGIN:STANDARD
TZOFFSETFROM:-0400
TZOFFSETTO:-0500
TZNAME:EST
DTSTART:20271107T060000
END:STANDARD
END:VTIMEZONE
BEGIN:VEVENT
DTSTART;TZID=America/Detroit:20260502T170000
DTEND;TZID=America/Detroit:20260502T230000
DTSTAMP:20260423T143019
CREATED:20260101T231911Z
LAST-MODIFIED:20260101T231911Z
UID:10002173-1777741200-1777762800@fantastigal.com
SUMMARY:Storykeepers Ball
DESCRIPTION:The Storykeepers Ball is an evening of camaraderie and festivities shared amongst readers and story-lovers. \nImmerse yourself in a beautiful setting and engage in fancy frivolity while stepping into the realm of readers’ delight—think black-tie boozy book club with food\, dancing\, and book-centric activities! \nOur aim is to celebrate the stories we keep close to our hearts with like-minded company\, ages 18 & up\, while promoting local and small businesses\, area nonprofits\, and the love of reading.
URL:https://fantastigal.com/event/storykeepers-ball/
LOCATION:The Boathouse on Lake Charlevoix\, 204 Water Street\, East Jordan\, MI\, 49727\, United States
CATEGORIES:Bookish,Fairy, Fairies, & Fae,Fantasy
ATTACH;FMTTYPE=image/jpeg:https://fantastigal.com/wp-content/uploads/2025/12/Storykeepers-Ball-logo.jpg
ORGANIZER;CN="Storykeepers Ball":MAILTO:info@storykeepersball.com
END:VEVENT
END:VCALENDAR