BEGIN:VCALENDAR
VERSION:2.0
PRODID:-//Fantastigal - ECPv6.15.20//NONSGML v1.0//EN
CALSCALE:GREGORIAN
METHOD:PUBLISH
X-ORIGINAL-URL:https://fantastigal.com
X-WR-CALDESC:Events for Fantastigal
REFRESH-INTERVAL;VALUE=DURATION:PT1H
X-Robots-Tag:noindex
X-PUBLISHED-TTL:PT1H
BEGIN:VTIMEZONE
TZID:UTC
BEGIN:STANDARD
TZOFFSETFROM:+0000
TZOFFSETTO:+0000
TZNAME:UTC
DTSTART:20250101T000000
END:STANDARD
END:VTIMEZONE
BEGIN:VEVENT
DTSTART;VALUE=DATE:20261120
DTEND;VALUE=DATE:20261121
DTSTAMP:20260423T161324
CREATED:20250908T005925Z
LAST-MODIFIED:20250908T011423Z
UID:10002042-1795132800-1795219199@fantastigal.com
SUMMARY:Dungeons & Dragons Day
DESCRIPTION:Dungeons and Dragons Day\, celebrated on November 20th\, is a homage to the iconic tabletop role-playing game that has captured the imaginations of players worldwide. On this day\, adventurers gather to embark on epic quests\, roll the dice\, and immerse themselves in the fantasy realms of dungeons\, dragons\, and endless possibilities. \nNote: The date for D&D Day is up for debate and open to feedback.
URL:https://fantastigal.com/event/dungeons-dragons-day/2026-11-20/
ATTACH;FMTTYPE=image/jpeg:https://fantastigal.com/wp-content/uploads/2025/09/dungeons.jpg
END:VEVENT
END:VCALENDAR