BEGIN:VCALENDAR
VERSION:2.0
PRODID:-//Fantastigal - ECPv6.15.20//NONSGML v1.0//EN
CALSCALE:GREGORIAN
METHOD:PUBLISH
X-ORIGINAL-URL:https://fantastigal.com
X-WR-CALDESC:Events for Fantastigal
REFRESH-INTERVAL;VALUE=DURATION:PT1H
X-Robots-Tag:noindex
X-PUBLISHED-TTL:PT1H
BEGIN:VTIMEZONE
TZID:UTC
BEGIN:STANDARD
TZOFFSETFROM:+0000
TZOFFSETTO:+0000
TZNAME:UTC
DTSTART:20250101T000000
END:STANDARD
END:VTIMEZONE
BEGIN:VEVENT
DTSTART;TZID=UTC:20260418T180000
DTEND;TZID=UTC:20260418T220000
DTSTAMP:20260423T163426
CREATED:20251202T225445Z
LAST-MODIFIED:20251202T225445Z
UID:10002166-1776535200-1776549600@fantastigal.com
SUMMARY:Gatsby Undead
DESCRIPTION:Step into a world where the champagne never stops flowing and the night never ends. \nGatsby Undead: The Crimson Speakeasy \nWe invite you to indulge in the forbidden glamour of the Roaring ’20s\, \nWhere dazzling flappers and charming immortals mingle behind velvet curtains. \nJazz fills the air\, secrets linger in every shadow\, and one thing is certain… \nDecadence is eternal. \nA weekend full of side quests! Including a morning market with Authors and vendors\, Friday night meet and greet\, weekend long tattoo flash\, Hungover Brunch\, After Party and more!
URL:https://fantastigal.com/event/gatsby-undead/
LOCATION:421 Texas Venue\, 421 Texas St\, Shreveport\, LA\, 71101\, United States
CATEGORIES:1920s,Bookish,Fantasy,Monsters,Mystery,Vampires
ATTACH;FMTTYPE=image/png:https://fantastigal.com/wp-content/uploads/2025/12/The-Crimson-Speakeasy.png
END:VEVENT
END:VCALENDAR