BEGIN:VCALENDAR
VERSION:2.0
PRODID:-//Fantastigal - ECPv6.15.20//NONSGML v1.0//EN
CALSCALE:GREGORIAN
METHOD:PUBLISH
X-ORIGINAL-URL:https://fantastigal.com
X-WR-CALDESC:Events for Fantastigal
REFRESH-INTERVAL;VALUE=DURATION:PT1H
X-Robots-Tag:noindex
X-PUBLISHED-TTL:PT1H
BEGIN:VTIMEZONE
TZID:UTC
BEGIN:STANDARD
TZOFFSETFROM:+0000
TZOFFSETTO:+0000
TZNAME:UTC
DTSTART:20250101T000000
END:STANDARD
END:VTIMEZONE
BEGIN:VEVENT
DTSTART;VALUE=DATE:20260505
DTEND;VALUE=DATE:20260506
DTSTAMP:20260423T123454
CREATED:20250908T151850Z
LAST-MODIFIED:20250908T151850Z
UID:10002083-1777939200-1778025599@fantastigal.com
SUMMARY:Star Wars Day | Revenge of the Fifth
DESCRIPTION:Revenge of the 5th\, observed on May 5th\, extends the Star Wars celebration beyond May the 4th\, inviting fans to continue reveling in the epic saga. On this day\, enthusiasts engage in Star Wars-themed activities\, embracing the dark side with events and reflections on the iconic characters and stories from the galaxy far\, far away. \nMay the Force continue to be with you!
URL:https://fantastigal.com/event/star-wars-day-revenge-of-the-fifth/2026-05-05/
CATEGORIES:Celestial,Strong in the Force
ATTACH;FMTTYPE=image/jpeg:https://fantastigal.com/wp-content/uploads/2025/09/starwars.jpg
END:VEVENT
BEGIN:VEVENT
DTSTART;VALUE=DATE:20270505
DTEND;VALUE=DATE:20270506
DTSTAMP:20260423T123454
CREATED:20250908T151850Z
LAST-MODIFIED:20250908T151850Z
UID:10002084-1809475200-1809561599@fantastigal.com
SUMMARY:Star Wars Day | Revenge of the Fifth
DESCRIPTION:Revenge of the 5th\, observed on May 5th\, extends the Star Wars celebration beyond May the 4th\, inviting fans to continue reveling in the epic saga. On this day\, enthusiasts engage in Star Wars-themed activities\, embracing the dark side with events and reflections on the iconic characters and stories from the galaxy far\, far away. \nMay the Force continue to be with you!
URL:https://fantastigal.com/event/star-wars-day-revenge-of-the-fifth/2027-05-05/
CATEGORIES:Celestial,Strong in the Force
ATTACH;FMTTYPE=image/jpeg:https://fantastigal.com/wp-content/uploads/2025/09/starwars.jpg
END:VEVENT
BEGIN:VEVENT
DTSTART;VALUE=DATE:20280505
DTEND;VALUE=DATE:20280506
DTSTAMP:20260423T123454
CREATED:20250908T151850Z
LAST-MODIFIED:20250908T151850Z
UID:10002085-1841097600-1841183999@fantastigal.com
SUMMARY:Star Wars Day | Revenge of the Fifth
DESCRIPTION:Revenge of the 5th\, observed on May 5th\, extends the Star Wars celebration beyond May the 4th\, inviting fans to continue reveling in the epic saga. On this day\, enthusiasts engage in Star Wars-themed activities\, embracing the dark side with events and reflections on the iconic characters and stories from the galaxy far\, far away. \nMay the Force continue to be with you!
URL:https://fantastigal.com/event/star-wars-day-revenge-of-the-fifth/2028-05-05/
CATEGORIES:Celestial,Strong in the Force
ATTACH;FMTTYPE=image/jpeg:https://fantastigal.com/wp-content/uploads/2025/09/starwars.jpg
END:VEVENT
BEGIN:VEVENT
DTSTART;VALUE=DATE:20290505
DTEND;VALUE=DATE:20290506
DTSTAMP:20260423T123454
CREATED:20250908T151850Z
LAST-MODIFIED:20250908T151850Z
UID:10002086-1872633600-1872719999@fantastigal.com
SUMMARY:Star Wars Day | Revenge of the Fifth
DESCRIPTION:Revenge of the 5th\, observed on May 5th\, extends the Star Wars celebration beyond May the 4th\, inviting fans to continue reveling in the epic saga. On this day\, enthusiasts engage in Star Wars-themed activities\, embracing the dark side with events and reflections on the iconic characters and stories from the galaxy far\, far away. \nMay the Force continue to be with you!
URL:https://fantastigal.com/event/star-wars-day-revenge-of-the-fifth/2029-05-05/
CATEGORIES:Celestial,Strong in the Force
ATTACH;FMTTYPE=image/jpeg:https://fantastigal.com/wp-content/uploads/2025/09/starwars.jpg
END:VEVENT
BEGIN:VEVENT
DTSTART;VALUE=DATE:20300505
DTEND;VALUE=DATE:20300506
DTSTAMP:20260423T123454
CREATED:20250908T151850Z
LAST-MODIFIED:20250908T151850Z
UID:10002087-1904169600-1904255999@fantastigal.com
SUMMARY:Star Wars Day | Revenge of the Fifth
DESCRIPTION:Revenge of the 5th\, observed on May 5th\, extends the Star Wars celebration beyond May the 4th\, inviting fans to continue reveling in the epic saga. On this day\, enthusiasts engage in Star Wars-themed activities\, embracing the dark side with events and reflections on the iconic characters and stories from the galaxy far\, far away. \nMay the Force continue to be with you!
URL:https://fantastigal.com/event/star-wars-day-revenge-of-the-fifth/2030-05-05/
CATEGORIES:Celestial,Strong in the Force
ATTACH;FMTTYPE=image/jpeg:https://fantastigal.com/wp-content/uploads/2025/09/starwars.jpg
END:VEVENT
END:VCALENDAR