BEGIN:VCALENDAR
VERSION:2.0
PRODID:-//Fantastigal - ECPv6.15.20//NONSGML v1.0//EN
CALSCALE:GREGORIAN
METHOD:PUBLISH
X-ORIGINAL-URL:https://fantastigal.com
X-WR-CALDESC:Events for Fantastigal
REFRESH-INTERVAL;VALUE=DURATION:PT1H
X-Robots-Tag:noindex
X-PUBLISHED-TTL:PT1H
BEGIN:VTIMEZONE
TZID:UTC
BEGIN:STANDARD
TZOFFSETFROM:+0000
TZOFFSETTO:+0000
TZNAME:UTC
DTSTART:20250101T000000
END:STANDARD
END:VTIMEZONE
BEGIN:VEVENT
DTSTART;VALUE=DATE:20260501
DTEND;VALUE=DATE:20260502
DTSTAMP:20260423T124225
CREATED:20250908T145545Z
LAST-MODIFIED:20250908T145545Z
UID:10002067-1777593600-1777679999@fantastigal.com
SUMMARY:Month of #Mermay
DESCRIPTION:The Month of #MerMay\, spanning the entire month of May\, is a celebration that encourages art enthusiasts to unleash their creativity by focusing on mermaid-themed illustrations and creations. Artists worldwide participate in this imaginative challenge\, filling May with a sea of captivating mermaid artworks that showcase the diversity and beauty of these mythical aquatic beings. \nFollow the official account for creative prompts and join in the celebration @MerMay_Official
URL:https://fantastigal.com/event/month-of-mermay/2026-05-01/
CATEGORIES:Aquatique,Mermaids | Sirens | Selkies,Pirates
ATTACH;FMTTYPE=image/jpeg:https://fantastigal.com/wp-content/uploads/2025/09/mermay.jpg
END:VEVENT
BEGIN:VEVENT
DTSTART;VALUE=DATE:20270501
DTEND;VALUE=DATE:20270502
DTSTAMP:20260423T124225
CREATED:20250908T145545Z
LAST-MODIFIED:20250908T145545Z
UID:10002068-1809129600-1809215999@fantastigal.com
SUMMARY:Month of #Mermay
DESCRIPTION:The Month of #MerMay\, spanning the entire month of May\, is a celebration that encourages art enthusiasts to unleash their creativity by focusing on mermaid-themed illustrations and creations. Artists worldwide participate in this imaginative challenge\, filling May with a sea of captivating mermaid artworks that showcase the diversity and beauty of these mythical aquatic beings. \nFollow the official account for creative prompts and join in the celebration @MerMay_Official
URL:https://fantastigal.com/event/month-of-mermay/2027-05-01/
CATEGORIES:Aquatique,Mermaids | Sirens | Selkies,Pirates
ATTACH;FMTTYPE=image/jpeg:https://fantastigal.com/wp-content/uploads/2025/09/mermay.jpg
END:VEVENT
BEGIN:VEVENT
DTSTART;VALUE=DATE:20280501
DTEND;VALUE=DATE:20280502
DTSTAMP:20260423T124225
CREATED:20250908T145545Z
LAST-MODIFIED:20250908T145545Z
UID:10002069-1840752000-1840838399@fantastigal.com
SUMMARY:Month of #Mermay
DESCRIPTION:The Month of #MerMay\, spanning the entire month of May\, is a celebration that encourages art enthusiasts to unleash their creativity by focusing on mermaid-themed illustrations and creations. Artists worldwide participate in this imaginative challenge\, filling May with a sea of captivating mermaid artworks that showcase the diversity and beauty of these mythical aquatic beings. \nFollow the official account for creative prompts and join in the celebration @MerMay_Official
URL:https://fantastigal.com/event/month-of-mermay/2028-05-01/
CATEGORIES:Aquatique,Mermaids | Sirens | Selkies,Pirates
ATTACH;FMTTYPE=image/jpeg:https://fantastigal.com/wp-content/uploads/2025/09/mermay.jpg
END:VEVENT
BEGIN:VEVENT
DTSTART;VALUE=DATE:20290501
DTEND;VALUE=DATE:20290502
DTSTAMP:20260423T124225
CREATED:20250908T145545Z
LAST-MODIFIED:20250908T145545Z
UID:10002070-1872288000-1872374399@fantastigal.com
SUMMARY:Month of #Mermay
DESCRIPTION:The Month of #MerMay\, spanning the entire month of May\, is a celebration that encourages art enthusiasts to unleash their creativity by focusing on mermaid-themed illustrations and creations. Artists worldwide participate in this imaginative challenge\, filling May with a sea of captivating mermaid artworks that showcase the diversity and beauty of these mythical aquatic beings. \nFollow the official account for creative prompts and join in the celebration @MerMay_Official
URL:https://fantastigal.com/event/month-of-mermay/2029-05-01/
CATEGORIES:Aquatique,Mermaids | Sirens | Selkies,Pirates
ATTACH;FMTTYPE=image/jpeg:https://fantastigal.com/wp-content/uploads/2025/09/mermay.jpg
END:VEVENT
BEGIN:VEVENT
DTSTART;VALUE=DATE:20300501
DTEND;VALUE=DATE:20300502
DTSTAMP:20260423T124225
CREATED:20250908T145545Z
LAST-MODIFIED:20250908T145545Z
UID:10002071-1903824000-1903910399@fantastigal.com
SUMMARY:Month of #Mermay
DESCRIPTION:The Month of #MerMay\, spanning the entire month of May\, is a celebration that encourages art enthusiasts to unleash their creativity by focusing on mermaid-themed illustrations and creations. Artists worldwide participate in this imaginative challenge\, filling May with a sea of captivating mermaid artworks that showcase the diversity and beauty of these mythical aquatic beings. \nFollow the official account for creative prompts and join in the celebration @MerMay_Official
URL:https://fantastigal.com/event/month-of-mermay/2030-05-01/
CATEGORIES:Aquatique,Mermaids | Sirens | Selkies,Pirates
ATTACH;FMTTYPE=image/jpeg:https://fantastigal.com/wp-content/uploads/2025/09/mermay.jpg
END:VEVENT
END:VCALENDAR